BEGIN:VCALENDAR
VERSION:2.0
PRODID:-//St. Mary&#039;s Dominican High School - ECPv6.2.3//NONSGML v1.0//EN
CALSCALE:GREGORIAN
METHOD:PUBLISH
X-WR-CALNAME:St. Mary&#039;s Dominican High School
X-ORIGINAL-URL:https://www.stmarysdominican.org
X-WR-CALDESC:Events for St. Mary&#039;s Dominican High School
REFRESH-INTERVAL;VALUE=DURATION:PT1H
X-Robots-Tag:noindex
X-PUBLISHED-TTL:PT1H
BEGIN:VTIMEZONE
TZID:Pacific/Easter
BEGIN:STANDARD
TZOFFSETFROM:-0500
TZOFFSETTO:-0600
TZNAME:-06
DTSTART:20180513T030000
END:STANDARD
BEGIN:DAYLIGHT
TZOFFSETFROM:-0600
TZOFFSETTO:-0500
TZNAME:-05
DTSTART:20180812T040000
END:DAYLIGHT
END:VTIMEZONE
BEGIN:VEVENT
DTSTART;TZID=Pacific/Easter:20180227T173000
DTEND;TZID=Pacific/Easter:20180227T190000
DTSTAMP:20260422T110404
CREATED:20180110T221658Z
LAST-MODIFIED:20180122T120210Z
UID:10001590-1519752600-1519758000@www.stmarysdominican.org
SUMMARY:Alumnae Mass/Board Meeting
DESCRIPTION:
URL:https://www.stmarysdominican.org/event/alumnae-mass-board-meeting/
CATEGORIES:Advancement
END:VEVENT
END:VCALENDAR