BEGIN:VCALENDAR
VERSION:2.0
PRODID:-//St. Mary&#039;s Dominican High School - ECPv6.2.3//NONSGML v1.0//EN
CALSCALE:GREGORIAN
METHOD:PUBLISH
X-ORIGINAL-URL:https://www.stmarysdominican.org
X-WR-CALDESC:Events for St. Mary&#039;s Dominican High School
REFRESH-INTERVAL;VALUE=DURATION:PT1H
X-Robots-Tag:noindex
X-PUBLISHED-TTL:PT1H
BEGIN:VTIMEZONE
TZID:Pacific/Easter
BEGIN:STANDARD
TZOFFSETFROM:-0500
TZOFFSETTO:-0600
TZNAME:-06
DTSTART:20180513T030000
END:STANDARD
BEGIN:DAYLIGHT
TZOFFSETFROM:-0600
TZOFFSETTO:-0500
TZNAME:-05
DTSTART:20180812T040000
END:DAYLIGHT
END:VTIMEZONE
BEGIN:VEVENT
DTSTART;TZID=Pacific/Easter:20180508T173000
DTEND;TZID=Pacific/Easter:20180508T190000
DTSTAMP:20260422T063903
CREATED:20180110T221757Z
LAST-MODIFIED:20180122T121205Z
UID:10001654-1525800600-1525806000@www.stmarysdominican.org
SUMMARY:Alumnae Board Mass/Meeting
DESCRIPTION:
URL:https://www.stmarysdominican.org/event/alumnae-board-mass-meeting/
CATEGORIES:Advancement
END:VEVENT
END:VCALENDAR