BEGIN:VCALENDAR
VERSION:2.0
PRODID:-//St. Mary&#039;s Dominican High School - ECPv6.2.3//NONSGML v1.0//EN
CALSCALE:GREGORIAN
METHOD:PUBLISH
X-ORIGINAL-URL:https://www.stmarysdominican.org
X-WR-CALDESC:Events for St. Mary&#039;s Dominican High School
REFRESH-INTERVAL;VALUE=DURATION:PT1H
X-Robots-Tag:noindex
X-PUBLISHED-TTL:PT1H
BEGIN:VTIMEZONE
TZID:America/Chicago
BEGIN:DAYLIGHT
TZOFFSETFROM:-0600
TZOFFSETTO:-0500
TZNAME:CDT
DTSTART:20180311T080000
END:DAYLIGHT
BEGIN:STANDARD
TZOFFSETFROM:-0500
TZOFFSETTO:-0600
TZNAME:CST
DTSTART:20181104T070000
END:STANDARD
END:VTIMEZONE
BEGIN:VEVENT
DTSTART;TZID=America/Chicago:20180911T173000
DTEND;TZID=America/Chicago:20180911T173000
DTSTAMP:20260422T003434
CREATED:20180809T162649Z
LAST-MODIFIED:20180809T162650Z
UID:10001367-1536687000-1536687000@www.stmarysdominican.org
SUMMARY:Alumnae Board Mass/Meeting
DESCRIPTION:
URL:https://www.stmarysdominican.org/event/alumnae-board-mass-meeting-6/
CATEGORIES:Advancement
END:VEVENT
BEGIN:VEVENT
DTSTART;TZID=America/Chicago:20180918T173000
DTEND;TZID=America/Chicago:20180918T173000
DTSTAMP:20260422T003434
CREATED:20180809T162651Z
LAST-MODIFIED:20180809T162652Z
UID:10001369-1537291800-1537291800@www.stmarysdominican.org
SUMMARY:College Alumnae Board Meeting
DESCRIPTION:
URL:https://www.stmarysdominican.org/event/college-alumnae-board-meeting-4/
CATEGORIES:Advancement
END:VEVENT
BEGIN:VEVENT
DTSTART;TZID=America/Chicago:20180921T120000
DTEND;TZID=America/Chicago:20180921T120000
DTSTAMP:20260422T003434
CREATED:20180809T162651Z
LAST-MODIFIED:20180921T160750Z
UID:10001370-1537531200-1537531200@www.stmarysdominican.org
SUMMARY:Sr. Mary Ann McSweeney\, O.P. Golf Tournament
DESCRIPTION:Audubon Park Golf Course\nREGISTRATION & LUNCH: 12:00 PM • SHOTGUN START: 1:00 PM \nPlayers & sponsors needed! \nVeritas Sponsor – $1\,500 \nBlack & White Sponsor – $775 \nTorch Hole Sponsor – $250 \nSingle Player Package – $125
URL:https://www.stmarysdominican.org/event/golf-tournament/
LOCATION:Audubon Golf Course
CATEGORIES:Advancement
ATTACH;FMTTYPE=image/jpeg:https://www.stmarysdominican.org/wp-content/uploads/2018/07/golf_tournament_2018_web-01.jpg
END:VEVENT
BEGIN:VEVENT
DTSTART;TZID=America/Chicago:20180929T140000
DTEND;TZID=America/Chicago:20180929T140000
DTSTAMP:20260422T003434
CREATED:20180911T222942Z
LAST-MODIFIED:20180911T222942Z
UID:10001814-1538229600-1538229600@www.stmarysdominican.org
SUMMARY:Kendra Gives Back Party!
DESCRIPTION:Enjoy sips\, sweets\, and jewels \nSaturday\, September 29 \n2:00 pm – 5:00 pm \n20% of all sales benefit St. Mary’s Dominican High School
URL:https://www.stmarysdominican.org/event/kendra-gives-back-party/
LOCATION:Kendra Scott – Magazine Street\, 5757 Magazine Street\, New Orleans\, LA
CATEGORIES:Advancement
ATTACH;FMTTYPE=image/jpeg:https://www.stmarysdominican.org/wp-content/uploads/2018/09/Dominican-Invitation.jpg
GEO:29.9216645;-90.118555
X-APPLE-STRUCTURED-LOCATION;VALUE=URI;X-ADDRESS=Kendra Scott – Magazine Street 5757 Magazine Street New Orleans LA;X-APPLE-RADIUS=500;X-TITLE=5757 Magazine Street:geo:-90.118555,29.9216645
END:VEVENT
END:VCALENDAR