BEGIN:VCALENDAR
VERSION:2.0
PRODID:-//St. Mary&#039;s Dominican High School - ECPv6.2.3//NONSGML v1.0//EN
CALSCALE:GREGORIAN
METHOD:PUBLISH
X-ORIGINAL-URL:https://www.stmarysdominican.org
X-WR-CALDESC:Events for St. Mary&#039;s Dominican High School
REFRESH-INTERVAL;VALUE=DURATION:PT1H
X-Robots-Tag:noindex
X-PUBLISHED-TTL:PT1H
BEGIN:VTIMEZONE
TZID:America/Chicago
BEGIN:DAYLIGHT
TZOFFSETFROM:-0600
TZOFFSETTO:-0500
TZNAME:CDT
DTSTART:20190310T080000
END:DAYLIGHT
BEGIN:STANDARD
TZOFFSETFROM:-0500
TZOFFSETTO:-0600
TZNAME:CST
DTSTART:20191103T070000
END:STANDARD
END:VTIMEZONE
BEGIN:VEVENT
DTSTART;TZID=America/Chicago:20191101T113000
DTEND;TZID=America/Chicago:20191101T200000
DTSTAMP:20260421T031630
CREATED:20190924T142946Z
LAST-MODIFIED:20191028T173823Z
UID:10001932-1572607800-1572638400@www.stmarysdominican.org
SUMMARY:Dominican Debs 50 Year Celebration
DESCRIPTION:The Debs are celebrating 50 years! Deb Alumnae are invited to cheer in the stands with the current Debs at the Brother Martin football game vs. Holy Cross on November 1! \nJoin us at Dominican for Mass\, lunch\, and practice before the tailgate and football game at Tad Gormley Stadium. \nFriday\, November 1\, 2019 \n11:27 am – Mass/Lunch on Campus\n1:30 pm – Practice at Dominican\n5:00 pm – Tailgate/Game at Tad Gormley \nREGISTRATION IS CLOSED \n$50 includes t-shirt\, lunch\, tailgate\, and admission into Brother Martin football game. \n  \n  \n  \n  \n  \n 
URL:https://www.stmarysdominican.org/event/dominican-debs-50-year-celebration/
CATEGORIES:Advancement
ATTACH;FMTTYPE=image/jpeg:https://www.stmarysdominican.org/wp-content/uploads/2019/09/50_year_logo_web-01.jpg
END:VEVENT
BEGIN:VEVENT
DTSTART;TZID=America/Chicago:20191102T090000
DTEND;TZID=America/Chicago:20191102T140000
DTSTAMP:20260421T031630
CREATED:20190730T160709Z
LAST-MODIFIED:20190917T170923Z
UID:10001486-1572685200-1572703200@www.stmarysdominican.org
SUMMARY:Makers Market
DESCRIPTION:Vendor Application:\nCLICK HERE TO DOWNLOAD APPLICATION \n  \n  \n  \n \n  \n  \n 
URL:https://www.stmarysdominican.org/event/makers-market/
CATEGORIES:Advancement
ATTACH;FMTTYPE=image/jpeg:https://www.stmarysdominican.org/wp-content/uploads/2019/07/makers_market_web.jpg
END:VEVENT
BEGIN:VEVENT
DTSTART;TZID=America/Chicago:20191105T173000
DTEND;TZID=America/Chicago:20191105T193000
DTSTAMP:20260421T031630
CREATED:20190730T160652Z
LAST-MODIFIED:20190730T160652Z
UID:10001858-1572975000-1572982200@www.stmarysdominican.org
SUMMARY:Alumnae Board Mass/Mtg
DESCRIPTION:
URL:https://www.stmarysdominican.org/event/alumnae-board-mass-mtg-3/
CATEGORIES:Advancement
END:VEVENT
BEGIN:VEVENT
DTSTART;TZID=America/Chicago:20191107T173000
DTEND;TZID=America/Chicago:20191107T200000
DTSTAMP:20260421T031630
CREATED:20190730T160708Z
LAST-MODIFIED:20191107T213833Z
UID:10001485-1573147800-1573156800@www.stmarysdominican.org
SUMMARY:Heritage Dinner
DESCRIPTION:
URL:https://www.stmarysdominican.org/event/heritage-dinner/
CATEGORIES:Advancement
END:VEVENT
BEGIN:VEVENT
DTSTART;TZID=America/Chicago:20191122T110000
DTEND;TZID=America/Chicago:20191122T180000
DTSTAMP:20260421T031630
CREATED:20190917T153346Z
LAST-MODIFIED:20191002T172234Z
UID:10001931-1574420400-1574445600@www.stmarysdominican.org
SUMMARY:Golf Tournament
DESCRIPTION:Friday\, November 22\, 2019 \nAudubon Park Golf Course\nRegistration & Lunch: 11:00 AM • Shotgun Start: 12:00 PM \nPLAYERS AND SPONSORS NEEDED! \nVeritas Sponsor – $1\,500 \nBlack & White Sponsor – $775 \nTorch Hole Sponsor – $250 \nSingle Player Package – $125 \n  \nCLICK HERE TO REGISTER \n  \n \n  \nClick on the image below to download the registration form to return by mail:
URL:https://www.stmarysdominican.org/event/golf-tournament-2/
LOCATION:Audubon Golf Course
CATEGORIES:Advancement
ATTACH;FMTTYPE=image/jpeg:https://www.stmarysdominican.org/wp-content/uploads/2018/07/golf_tournament_2018_web-01.jpg
END:VEVENT
END:VCALENDAR