BEGIN:VCALENDAR
VERSION:2.0
PRODID:-//St. Mary&#039;s Dominican High School - ECPv6.2.3//NONSGML v1.0//EN
CALSCALE:GREGORIAN
METHOD:PUBLISH
X-WR-CALNAME:St. Mary&#039;s Dominican High School
X-ORIGINAL-URL:https://www.stmarysdominican.org
X-WR-CALDESC:Events for St. Mary&#039;s Dominican High School
REFRESH-INTERVAL;VALUE=DURATION:PT1H
X-Robots-Tag:noindex
X-PUBLISHED-TTL:PT1H
BEGIN:VTIMEZONE
TZID:America/Chicago
BEGIN:DAYLIGHT
TZOFFSETFROM:-0600
TZOFFSETTO:-0500
TZNAME:CDT
DTSTART:20200308T080000
END:DAYLIGHT
BEGIN:STANDARD
TZOFFSETFROM:-0500
TZOFFSETTO:-0600
TZNAME:CST
DTSTART:20201101T070000
END:STANDARD
END:VTIMEZONE
BEGIN:VEVENT
DTSTART;TZID=America/Chicago:20200314T190000
DTEND;TZID=America/Chicago:20200314T230000
DTSTAMP:20260420T202209
CREATED:20190730T160708Z
LAST-MODIFIED:20200312T171839Z
UID:10001867-1584212400-1584226800@www.stmarysdominican.org
SUMMARY:Dominican Gala
DESCRIPTION:Dominican Legacy Gala “Seas the Night” – Postponed\n \n 
URL:https://www.stmarysdominican.org/event/dominican-gala-2/
CATEGORIES:Advancement
END:VEVENT
BEGIN:VEVENT
DTSTART;TZID=America/Chicago:20200319T070000
DTEND;TZID=America/Chicago:20200319T160000
DTSTAMP:20260420T202209
CREATED:20190730T160710Z
LAST-MODIFIED:20190730T160710Z
UID:10001488-1584601200-1584633600@www.stmarysdominican.org
SUMMARY:St. Joseph's Altar
DESCRIPTION:
URL:https://www.stmarysdominican.org/event/st-josephs-altar/
LOCATION:Alumnae Hall
CATEGORIES:Advancement
END:VEVENT
BEGIN:VEVENT
DTSTART;TZID=America/Chicago:20200321T100000
DTEND;TZID=America/Chicago:20200321T120000
DTSTAMP:20260420T202209
CREATED:20190730T160708Z
LAST-MODIFIED:20200313T212743Z
UID:10001484-1584784800-1584792000@www.stmarysdominican.org
SUMMARY:Easter Egg Roll
DESCRIPTION:SCHOOL CLOSED Monday\, March 16 – Monday\, April 13 \nAll school-related activities previously scheduled during this time frame are canceled/postponed until further notice. \n \n 
URL:https://www.stmarysdominican.org/event/easter-egg-roll-2/
CATEGORIES:Advancement
ATTACH;FMTTYPE=image/jpeg:https://www.stmarysdominican.org/wp-content/uploads/2019/07/easter_egg_roll20_canceled-01.jpg
END:VEVENT
END:VCALENDAR