BEGIN:VCALENDAR
VERSION:2.0
PRODID:-//St. Mary&#039;s Dominican High School - ECPv6.2.3//NONSGML v1.0//EN
CALSCALE:GREGORIAN
METHOD:PUBLISH
X-ORIGINAL-URL:https://www.stmarysdominican.org
X-WR-CALDESC:Events for St. Mary&#039;s Dominican High School
REFRESH-INTERVAL;VALUE=DURATION:PT1H
X-Robots-Tag:noindex
X-PUBLISHED-TTL:PT1H
BEGIN:VTIMEZONE
TZID:America/Chicago
BEGIN:DAYLIGHT
TZOFFSETFROM:-0600
TZOFFSETTO:-0500
TZNAME:CDT
DTSTART:20200308T080000
END:DAYLIGHT
BEGIN:STANDARD
TZOFFSETFROM:-0500
TZOFFSETTO:-0600
TZNAME:CST
DTSTART:20201101T070000
END:STANDARD
END:VTIMEZONE
BEGIN:VEVENT
DTSTART;TZID=America/Chicago:20200505T173000
DTEND;TZID=America/Chicago:20200505T200000
DTSTAMP:20260420T164956
CREATED:20190730T160702Z
LAST-MODIFIED:20190730T160702Z
UID:10001861-1588699800-1588708800@www.stmarysdominican.org
SUMMARY:Alumnae Board Mass/Mtg
DESCRIPTION:
URL:https://www.stmarysdominican.org/event/alumnae-board-mass-mtg-6/
CATEGORIES:Advancement
END:VEVENT
BEGIN:VEVENT
DTSTART;TZID=America/Chicago:20200509T140000
DTEND;TZID=America/Chicago:20200509T160000
DTSTAMP:20260420T164956
CREATED:20190730T160710Z
LAST-MODIFIED:20190730T160710Z
UID:10001487-1589032800-1589040000@www.stmarysdominican.org
SUMMARY:Senior Mother/Daughter Tea
DESCRIPTION:
URL:https://www.stmarysdominican.org/event/senior-mother-daughter-tea/
CATEGORIES:Advancement
END:VEVENT
END:VCALENDAR