BEGIN:VCALENDAR
VERSION:2.0
PRODID:-//St. Mary&#039;s Dominican High School - ECPv6.2.3//NONSGML v1.0//EN
CALSCALE:GREGORIAN
METHOD:PUBLISH
X-ORIGINAL-URL:https://www.stmarysdominican.org
X-WR-CALDESC:Events for St. Mary&#039;s Dominican High School
REFRESH-INTERVAL;VALUE=DURATION:PT1H
X-Robots-Tag:noindex
X-PUBLISHED-TTL:PT1H
BEGIN:VTIMEZONE
TZID:America/Chicago
BEGIN:DAYLIGHT
TZOFFSETFROM:-0600
TZOFFSETTO:-0500
TZNAME:CDT
DTSTART:20210314T080000
END:DAYLIGHT
BEGIN:STANDARD
TZOFFSETFROM:-0500
TZOFFSETTO:-0600
TZNAME:CST
DTSTART:20211107T070000
END:STANDARD
END:VTIMEZONE
BEGIN:VEVENT
DTSTART;TZID=America/Chicago:20210619T103000
DTEND;TZID=America/Chicago:20210619T143000
DTSTAMP:20260419T200035
CREATED:20210419T183638Z
LAST-MODIFIED:20210616T191231Z
UID:10001982-1624098600-1624113000@www.stmarysdominican.org
SUMMARY:Juneteenth Celebration
DESCRIPTION:St. Mary’s Dominican Alumnae Association presents a virtual \nJuneteenth Celebration\nSaturday\, June 19\, 2021\nCELEBRATION OF FREEDOM: REMEMBERING OUR SHARED HISTORY\nA virtual gathering of reflection and rejoicing! \nPROGRAM \n10:30 am CT (8:30 am PT/9:30 am MT/11:30 am ET): WELCOME – Arthel Neville ’80\, B.J.\, award-winning journalist\, Co-anchor Fox News Live\, Manhattan \n10:35 am CT – 11:30 am: BLACK CATHOLIC MASS in Celebration of Juneteenth 2021 \n11:30 am – 12:30 pm: KEYNOTE SPEAKER: Sister Pat Dual\, O.P.\, Racism is a Sin \n12:30 pm – 1:30 pm: JAZZ LUNCH BREAK with Sharon Martin\, internationally acclaimed New Orleans jazz vocalist \n01:30 am – 02:20 pm: ATTEND ONE \n\nA) The Importance of Blacks in the Catholic Church Today\, Ansel Augustine\, D.Min\nB) New Orleans Black Culture: Before & After Juneteenth\, Mona Lisa Saloy\, Ph.D.\nC) Witness to Change: From Jim Crow to Political Empowerment\, Sybil Morial\, M.Ed.\nD) Sister Mary Antona Ebo: This Far By Faith\, Winnie Sullivan\, M.S.\n\n2:20 pm – 2:30 pm: CLOSING – Arthel Neville ’80\, B.J. \n  \nLINK FOR INFORMATION ON THE SPEAKERS \n  \n*MASS\, KEYNOTE SESSION\, & THE JAZZ PERFORMANCE DURING LUNCH ARE INCLUDED IN REGISTRATION. \nRegistration is Closed \n  \n  \n  \n  \n  \n  \n 
URL:https://www.stmarysdominican.org/event/juneteenth-celebration/
CATEGORIES:Advancement
ATTACH;FMTTYPE=image/jpeg:https://www.stmarysdominican.org/wp-content/uploads/2021/04/juneteenth_web_.jpg
END:VEVENT
END:VCALENDAR