BEGIN:VCALENDAR
VERSION:2.0
PRODID:-//St. Mary&#039;s Dominican High School - ECPv6.2.3//NONSGML v1.0//EN
CALSCALE:GREGORIAN
METHOD:PUBLISH
X-WR-CALNAME:St. Mary&#039;s Dominican High School
X-ORIGINAL-URL:https://www.stmarysdominican.org
X-WR-CALDESC:Events for St. Mary&#039;s Dominican High School
REFRESH-INTERVAL;VALUE=DURATION:PT1H
X-Robots-Tag:noindex
X-PUBLISHED-TTL:PT1H
BEGIN:VTIMEZONE
TZID:America/Chicago
BEGIN:DAYLIGHT
TZOFFSETFROM:-0600
TZOFFSETTO:-0500
TZNAME:CDT
DTSTART:20210314T080000
END:DAYLIGHT
BEGIN:STANDARD
TZOFFSETFROM:-0500
TZOFFSETTO:-0600
TZNAME:CST
DTSTART:20211107T070000
END:STANDARD
END:VTIMEZONE
BEGIN:VEVENT
DTSTART;VALUE=DATE:20210823
DTEND;VALUE=DATE:20210824
DTSTAMP:20260419T164632
CREATED:20210816T131545Z
LAST-MODIFIED:20210816T131545Z
UID:10001994-1629676800-1629763199@www.stmarysdominican.org
SUMMARY:Alumnae Appreciate Personnel
DESCRIPTION:
URL:https://www.stmarysdominican.org/event/alumnae-appreciate-personnel/
CATEGORIES:Advancement
END:VEVENT
BEGIN:VEVENT
DTSTART;TZID=America/Chicago:20210831T173000
DTEND;TZID=America/Chicago:20210831T190000
DTSTAMP:20260419T164632
CREATED:20210816T131529Z
LAST-MODIFIED:20210816T131529Z
UID:10001988-1630431000-1630436400@www.stmarysdominican.org
SUMMARY:Alumnae AC Mass and Meeting
DESCRIPTION:
URL:https://www.stmarysdominican.org/event/alumnae-ac-mass-and-meeting/
CATEGORIES:Advancement
END:VEVENT
END:VCALENDAR