BEGIN:VCALENDAR
VERSION:2.0
PRODID:-//St. Mary&#039;s Dominican High School - ECPv6.2.3//NONSGML v1.0//EN
CALSCALE:GREGORIAN
METHOD:PUBLISH
X-WR-CALNAME:St. Mary&#039;s Dominican High School
X-ORIGINAL-URL:https://www.stmarysdominican.org
X-WR-CALDESC:Events for St. Mary&#039;s Dominican High School
REFRESH-INTERVAL;VALUE=DURATION:PT1H
X-Robots-Tag:noindex
X-PUBLISHED-TTL:PT1H
BEGIN:VTIMEZONE
TZID:America/Chicago
BEGIN:DAYLIGHT
TZOFFSETFROM:-0600
TZOFFSETTO:-0500
TZNAME:CDT
DTSTART:20210314T080000
END:DAYLIGHT
BEGIN:STANDARD
TZOFFSETFROM:-0500
TZOFFSETTO:-0600
TZNAME:CST
DTSTART:20211107T070000
END:STANDARD
END:VTIMEZONE
BEGIN:VEVENT
DTSTART;TZID=America/Chicago:20211106T100000
DTEND;TZID=America/Chicago:20211106T140000
DTSTAMP:20260419T121334
CREATED:20210816T131646Z
LAST-MODIFIED:20210816T131646Z
UID:10002005-1636192800-1636207200@www.stmarysdominican.org
SUMMARY:Class of 1971 Reunion
DESCRIPTION:
URL:https://www.stmarysdominican.org/event/class-of-1971-reunion/
CATEGORIES:Advancement
END:VEVENT
BEGIN:VEVENT
DTSTART;TZID=America/Chicago:20211109T173000
DTEND;TZID=America/Chicago:20211109T190000
DTSTAMP:20260419T121334
CREATED:20210816T131530Z
LAST-MODIFIED:20210816T131530Z
UID:10001989-1636479000-1636484400@www.stmarysdominican.org
SUMMARY:Alumnae AC Mass and Meeting
DESCRIPTION:
URL:https://www.stmarysdominican.org/event/alumnae-ac-mass-and-meeting-2/
CATEGORIES:Advancement
END:VEVENT
BEGIN:VEVENT
DTSTART;TZID=America/Chicago:20211117T070000
DTEND;TZID=America/Chicago:20211117T080000
DTSTAMP:20260419T121334
CREATED:20210816T132217Z
LAST-MODIFIED:20210816T132217Z
UID:10002057-1637132400-1637136000@www.stmarysdominican.org
SUMMARY:Thanksgiving Baskets Due
DESCRIPTION:
URL:https://www.stmarysdominican.org/event/thanksgiving-baskets-due/
CATEGORIES:Advancement
END:VEVENT
BEGIN:VEVENT
DTSTART;VALUE=DATE:20211119
DTEND;VALUE=DATE:20211120
DTSTAMP:20260419T121335
CREATED:20210816T132217Z
LAST-MODIFIED:20210816T132217Z
UID:10002056-1637280000-1637366399@www.stmarysdominican.org
SUMMARY:Thanksgiving Basket Delivery
DESCRIPTION:
URL:https://www.stmarysdominican.org/event/thanksgiving-basket-delivery/
CATEGORIES:Advancement
END:VEVENT
END:VCALENDAR