BEGIN:VCALENDAR
VERSION:2.0
PRODID:-//St. Mary&#039;s Dominican High School - ECPv6.2.3//NONSGML v1.0//EN
CALSCALE:GREGORIAN
METHOD:PUBLISH
X-WR-CALNAME:St. Mary&#039;s Dominican High School
X-ORIGINAL-URL:https://www.stmarysdominican.org
X-WR-CALDESC:Events for St. Mary&#039;s Dominican High School
REFRESH-INTERVAL;VALUE=DURATION:PT1H
X-Robots-Tag:noindex
X-PUBLISHED-TTL:PT1H
BEGIN:VTIMEZONE
TZID:America/Chicago
BEGIN:DAYLIGHT
TZOFFSETFROM:-0600
TZOFFSETTO:-0500
TZNAME:CDT
DTSTART:20220313T080000
END:DAYLIGHT
BEGIN:STANDARD
TZOFFSETFROM:-0500
TZOFFSETTO:-0600
TZNAME:CST
DTSTART:20221106T070000
END:STANDARD
END:VTIMEZONE
BEGIN:VEVENT
DTSTART;TZID=America/Chicago:20220208T173000
DTEND;TZID=America/Chicago:20220208T190000
DTSTAMP:20260419T074845
CREATED:20210816T131531Z
LAST-MODIFIED:20210816T131531Z
UID:10001991-1644341400-1644346800@www.stmarysdominican.org
SUMMARY:Alumnae AC Mass and Meeting
DESCRIPTION:
URL:https://www.stmarysdominican.org/event/alumnae-ac-mass-and-meeting-4/
CATEGORIES:Advancement
END:VEVENT
BEGIN:VEVENT
DTSTART;VALUE=DATE:20220211
DTEND;VALUE=DATE:20220212
DTSTAMP:20260419T074845
CREATED:20210816T131852Z
LAST-MODIFIED:20210816T131852Z
UID:10001650-1644537600-1644623999@www.stmarysdominican.org
SUMMARY:Founders Day
DESCRIPTION:
URL:https://www.stmarysdominican.org/event/founders-day/
CATEGORIES:Advancement
END:VEVENT
END:VCALENDAR