BEGIN:VCALENDAR
VERSION:2.0
PRODID:-//St. Mary&#039;s Dominican High School - ECPv6.2.3//NONSGML v1.0//EN
CALSCALE:GREGORIAN
METHOD:PUBLISH
X-ORIGINAL-URL:https://www.stmarysdominican.org
X-WR-CALDESC:Events for St. Mary&#039;s Dominican High School
REFRESH-INTERVAL;VALUE=DURATION:PT1H
X-Robots-Tag:noindex
X-PUBLISHED-TTL:PT1H
BEGIN:VTIMEZONE
TZID:America/Chicago
BEGIN:DAYLIGHT
TZOFFSETFROM:-0600
TZOFFSETTO:-0500
TZNAME:CDT
DTSTART:20180311T080000
END:DAYLIGHT
BEGIN:STANDARD
TZOFFSETFROM:-0500
TZOFFSETTO:-0600
TZNAME:CST
DTSTART:20181104T070000
END:STANDARD
BEGIN:DAYLIGHT
TZOFFSETFROM:-0600
TZOFFSETTO:-0500
TZNAME:CDT
DTSTART:20190310T080000
END:DAYLIGHT
BEGIN:STANDARD
TZOFFSETFROM:-0500
TZOFFSETTO:-0600
TZNAME:CST
DTSTART:20191103T070000
END:STANDARD
TZID:Pacific/Easter
BEGIN:STANDARD
TZOFFSETFROM:-0500
TZOFFSETTO:-0600
TZNAME:-06
DTSTART:20180513T030000
END:STANDARD
BEGIN:DAYLIGHT
TZOFFSETFROM:-0600
TZOFFSETTO:-0500
TZNAME:-05
DTSTART:20180812T040000
END:DAYLIGHT
END:VTIMEZONE
BEGIN:VEVENT
DTSTART;TZID=America/Chicago:20190316T100000
DTEND;TZID=America/Chicago:20190316T100000
DTSTAMP:20260425T154415
CREATED:20180809T162716Z
LAST-MODIFIED:20190311T214320Z
UID:10001397-1552730400-1552730400@www.stmarysdominican.org
SUMMARY:New Student/Parent Orientation
DESCRIPTION:
URL:https://www.stmarysdominican.org/event/new-student-parent-orientation-3/
CATEGORIES:Recruitment
END:VEVENT
BEGIN:VEVENT
DTSTART;TZID=America/Chicago:20190112T080000
DTEND;TZID=America/Chicago:20190112T080000
DTSTAMP:20260425T154415
CREATED:20180809T162709Z
LAST-MODIFIED:20181030T141714Z
UID:10001382-1547280000-1547280000@www.stmarysdominican.org
SUMMARY:Application Day/High School Placement Test
DESCRIPTION:$30 application fee collected by Dominican
URL:https://www.stmarysdominican.org/event/application-day-2/
CATEGORIES:Recruitment
END:VEVENT
BEGIN:VEVENT
DTSTART;VALUE=DATE:20181114
DTEND;VALUE=DATE:20181115
DTSTAMP:20260425T154415
CREATED:20181029T164515Z
LAST-MODIFIED:20181114T140321Z
UID:10001419-1542153600-1542239999@www.stmarysdominican.org
SUMMARY:Apply to Dominican
DESCRIPTION:Archdiocesan Applications available – Click here\nIf you attend a Catholic elementary school\, you will receive the Archdiocesan Application Form from your school principal. Your school principal will send us your school records\, transcripts\, and standardized test results. \nIf you do not attend a Catholic elementary school\, you can obtain an Archdiocesan Application Form from Dominican High School in the foyer office at the Walmsley Avenue entrance to the school or print one online here. You are responsible for obtaining the required records (grades 5 through your most current report cards and standardized test scores) from your school and forwarding them to us. Please see specific instructions on the application form. \nIf you attend a Catholic elementary school\, complete the application form you received and return it to your school principal. Your school principal will then forward your school records to Dominican. \nIf you do not attend a Catholic elementary school\, you are to return the application form\, report cards\, and test scores to Dominican according to the instructions on the application form.
URL:https://www.stmarysdominican.org/event/apply-to-dominican/
CATEGORIES:Recruitment
ATTACH;FMTTYPE=image/jpeg:https://www.stmarysdominican.org/wp-content/uploads/2013/08/welcome_7293_2.jpg
END:VEVENT
BEGIN:VEVENT
DTSTART;TZID=Pacific/Easter:20180324T090000
DTEND;TZID=Pacific/Easter:20180324T110000
DTSTAMP:20260425T154415
CREATED:20180110T221725Z
LAST-MODIFIED:20180122T120450Z
UID:10001321-1521882000-1521889200@www.stmarysdominican.org
SUMMARY:New Student/Parent Orientation
DESCRIPTION:
URL:https://www.stmarysdominican.org/event/new-student-parent-orientation/
CATEGORIES:Recruitment
END:VEVENT
END:VCALENDAR