BEGIN:VCALENDAR
VERSION:2.0
PRODID:-//St. Mary&#039;s Dominican High School - ECPv6.2.3//NONSGML v1.0//EN
CALSCALE:GREGORIAN
METHOD:PUBLISH
X-WR-CALNAME:St. Mary&#039;s Dominican High School
X-ORIGINAL-URL:https://www.stmarysdominican.org
X-WR-CALDESC:Events for St. Mary&#039;s Dominican High School
REFRESH-INTERVAL;VALUE=DURATION:PT1H
X-Robots-Tag:noindex
X-PUBLISHED-TTL:PT1H
BEGIN:VTIMEZONE
TZID:America/Chicago
BEGIN:DAYLIGHT
TZOFFSETFROM:-0600
TZOFFSETTO:-0500
TZNAME:CDT
DTSTART:20200308T080000
END:DAYLIGHT
BEGIN:STANDARD
TZOFFSETFROM:-0500
TZOFFSETTO:-0600
TZNAME:CST
DTSTART:20201101T070000
END:STANDARD
BEGIN:DAYLIGHT
TZOFFSETFROM:-0600
TZOFFSETTO:-0500
TZNAME:CDT
DTSTART:20210314T080000
END:DAYLIGHT
BEGIN:STANDARD
TZOFFSETFROM:-0500
TZOFFSETTO:-0600
TZNAME:CST
DTSTART:20211107T070000
END:STANDARD
BEGIN:DAYLIGHT
TZOFFSETFROM:-0600
TZOFFSETTO:-0500
TZNAME:CDT
DTSTART:20220313T080000
END:DAYLIGHT
BEGIN:STANDARD
TZOFFSETFROM:-0500
TZOFFSETTO:-0600
TZNAME:CST
DTSTART:20221106T070000
END:STANDARD
BEGIN:DAYLIGHT
TZOFFSETFROM:-0600
TZOFFSETTO:-0500
TZNAME:CDT
DTSTART:20230312T080000
END:DAYLIGHT
BEGIN:STANDARD
TZOFFSETFROM:-0500
TZOFFSETTO:-0600
TZNAME:CST
DTSTART:20231105T070000
END:STANDARD
BEGIN:DAYLIGHT
TZOFFSETFROM:-0600
TZOFFSETTO:-0500
TZNAME:CDT
DTSTART:20240310T080000
END:DAYLIGHT
BEGIN:STANDARD
TZOFFSETFROM:-0500
TZOFFSETTO:-0600
TZNAME:CST
DTSTART:20241103T070000
END:STANDARD
END:VTIMEZONE
BEGIN:VEVENT
DTSTART;TZID=America/Chicago:20240928T090000
DTEND;TZID=America/Chicago:20240928T120000
DTSTAMP:20260425T083924
CREATED:20240823T182737Z
LAST-MODIFIED:20240827T145110Z
UID:10002336-1727514000-1727524800@www.stmarysdominican.org
SUMMARY:Dominican Discovery Day
DESCRIPTION:Join us on Walmsley Avenue for a special event designed for 6th and 7th-grade students and their parents! Discover the Dominican Difference\, where exceptional academics meet a vibrant community. Explore our state-of-the-art facilities\, learn about our diverse range of over 50 clubs\, teams\, and organizations\, and see firsthand what makes our school unique. Don’t miss this opportunity to experience all that we have to offer and begin your journey with us! \nClick Here to Register
URL:https://www.stmarysdominican.org/event/dominican-discovery-day/
CATEGORIES:Recruitment,Upcoming Events
ATTACH;FMTTYPE=image/jpeg:https://www.stmarysdominican.org/wp-content/uploads/2024/08/dominican_discovery_day2024_web_date.jpg
END:VEVENT
BEGIN:VEVENT
DTSTART;TZID=America/Chicago:20240918T090000
DTEND;TZID=America/Chicago:20240918T110000
DTSTAMP:20260425T083924
CREATED:20240823T182813Z
LAST-MODIFIED:20240827T144859Z
UID:10002335-1726650000-1726657200@www.stmarysdominican.org
SUMMARY:Wednesdays on Walmsley
DESCRIPTION:September 18 | October 2 | November 6 \nJoin us on Walmsley Avenue during a school day for a new event designed for 6th and 7th-grade students and their parents! Discover the Dominican Difference\, where exceptional academics meet a vibrant community. Explore our state-of-the-art facilities\, learn about our diverse range of over 50 clubs\, teams\, and organizations\, and see firsthand what makes our school unique. Don’t miss this opportunity to experience all that we have to offer and begin your journey with us! \nClick Here to Register
URL:https://www.stmarysdominican.org/event/wednesdays-on-walmsley/
CATEGORIES:Recruitment,Upcoming Events
ATTACH;FMTTYPE=image/jpeg:https://www.stmarysdominican.org/wp-content/uploads/2024/08/wednesdaysonwalmsley2024_web_date.jpg
END:VEVENT
BEGIN:VEVENT
DTSTART;TZID=America/Chicago:20240914T093000
DTEND;TZID=America/Chicago:20240914T150000
DTSTAMP:20260425T083924
CREATED:20240731T175042Z
LAST-MODIFIED:20240913T180715Z
UID:10002320-1726306200-1726326000@www.stmarysdominican.org
SUMMARY:Dominican Deb Mini-Camp
DESCRIPTION:Girls in grades K-7th are invited to the Dominican Deb Mini-Camp. Girls will be divided into groups by grade level. Each group will be monitored by adult chaperones & instructed by members of the Dominican Debs. \nSaturday\, September 14\n9:30 am – 3:00 pm\nOnline Registration is closed\nWalk-Up Registration: $60\n 
URL:https://www.stmarysdominican.org/event/dominican-deb-mini-camp-4/
CATEGORIES:Recruitment,Upcoming Events
ATTACH;FMTTYPE=image/jpeg:https://www.stmarysdominican.org/wp-content/uploads/2024/07/debs_mini_camp2024_web_date.jpg
END:VEVENT
BEGIN:VEVENT
DTSTART;TZID=America/Chicago:20240603T083000
DTEND;TZID=America/Chicago:20240603T153000
DTSTAMP:20260425T083924
CREATED:20230127T200735Z
LAST-MODIFIED:20240129T170214Z
UID:10002211-1717403400-1717428600@www.stmarysdominican.org
SUMMARY:Summer Camps
DESCRIPTION:Summer Camps
URL:https://www.stmarysdominican.org/event/summer-camps-3/
CATEGORIES:Experience Dominican,Summer Programs,Upcoming Events
ATTACH;FMTTYPE=image/jpeg:https://www.stmarysdominican.org/wp-content/uploads/2024/01/summer_camps2024_dates.jpg
ORGANIZER;CN="Meg Womble%2C Summer Programs Director":MAILTO:mwomble@stmarysdominican.org
END:VEVENT
BEGIN:VEVENT
DTSTART;TZID=America/Chicago:20240419T180000
DTEND;TZID=America/Chicago:20240419T210000
DTSTAMP:20260425T083924
CREATED:20240129T170005Z
LAST-MODIFIED:20240419T140818Z
UID:10002310-1713549600-1713560400@www.stmarysdominican.org
SUMMARY:Black and White Friday Night
DESCRIPTION:Join us for our annual Black and White Friday Night! This fun event is open to girls in grades 4 – 6. Enjoy crafts\, games\, and Dominican fun! \nDinner will be provided. \nFriday\, April 19 from 6 pm – 9 pm\nOnline registration is closed. Walk-in registrations are welcome. \n  \n 
URL:https://www.stmarysdominican.org/event/black-and-white-friday-night-7/
CATEGORIES:Experience Dominican,Recruitment,Upcoming Events
ATTACH;FMTTYPE=image/jpeg:https://www.stmarysdominican.org/wp-content/uploads/2021/08/blackandwhite_web_image2.jpg
ORGANIZER;CN="Recruitment":MAILTO:recruitment@stmarysdominican.org
END:VEVENT
BEGIN:VEVENT
DTSTART;TZID=America/Chicago:20240308T180000
DTEND;TZID=America/Chicago:20240308T210000
DTSTAMP:20260425T083924
CREATED:20240129T164359Z
LAST-MODIFIED:20240308T153750Z
UID:10002309-1709920800-1709931600@www.stmarysdominican.org
SUMMARY:Destination Dominican
DESCRIPTION:Postponed due to potential severe weather\nNew Date – April 19\n  \n  \n  \n 
URL:https://www.stmarysdominican.org/event/destination-dominican-2/
CATEGORIES:Experience Dominican,Recruitment,Upcoming Events
ATTACH;FMTTYPE=image/jpeg:https://www.stmarysdominican.org/wp-content/uploads/2024/01/destination_dominican_postponed_web.jpg
ORGANIZER;CN="Recruitment":MAILTO:recruitment@stmarysdominican.org
END:VEVENT
BEGIN:VEVENT
DTSTART;TZID=America/Chicago:20240302T090000
DTEND;TZID=America/Chicago:20240302T150000
DTSTAMP:20260425T083924
CREATED:20240129T164113Z
LAST-MODIFIED:20240219T214959Z
UID:10002308-1709370000-1709391600@www.stmarysdominican.org
SUMMARY:Debs Technique Clinic
DESCRIPTION:SATURDAY\, MARCH 2\, 2024\nGirls in grades 5 – 7\, incoming Dominican students for the 2024 – 2025 school year\, and any present Dominican student who may be interested in trying out for the Debs\, are invited to attend the Debs Technique Clinic\, Saturday\, March 2. \nClick Here to Register \n  \n \n 
URL:https://www.stmarysdominican.org/event/debs-technique-clinic-5/
CATEGORIES:Experience Dominican,Recruitment,Upcoming Events
ATTACH;FMTTYPE=image/jpeg:https://www.stmarysdominican.org/wp-content/uploads/2018/01/technique_clinic_image_web.jpg
END:VEVENT
BEGIN:VEVENT
DTSTART;TZID=America/Chicago:20231104T100000
DTEND;TZID=America/Chicago:20231104T130000
DTSTAMP:20260425T083924
CREATED:20230803T220955Z
LAST-MODIFIED:20231103T213820Z
UID:10002273-1699092000-1699102800@www.stmarysdominican.org
SUMMARY:Shadow My Saddles
DESCRIPTION:November 4\, 2023\n10:00 am – 1:00 pm\nShadow My Saddles is an opportunity for Dominican alumnae to showcase their alma mater to prospective students. \nAlumnae are invited to bring prospective students in grades 4-8 (8th graders at non-Catholic elementary schools) to campus for a memorable event sharing with them their own Dominican experience. \nLunch will be provided. \n  \n  \n  \n  \n  \n  \n  \n  \n  \n 
URL:https://www.stmarysdominican.org/event/shadow-my-saddles-3/
CATEGORIES:Advancement,Recruitment,Upcoming Events
ATTACH;FMTTYPE=image/jpeg:https://www.stmarysdominican.org/wp-content/uploads/2019/08/shadow_my_saddles3-01.jpg
ORGANIZER;CN="Recruitment":MAILTO:recruitment@stmarysdominican.org
END:VEVENT
BEGIN:VEVENT
DTSTART;TZID=America/Chicago:20231028T093000
DTEND;TZID=America/Chicago:20231028T150000
DTSTAMP:20260425T083924
CREATED:20240815T195638Z
LAST-MODIFIED:20240815T195638Z
UID:10002331-1698485400-1698505200@www.stmarysdominican.org
SUMMARY:Dominican Cheer Mini-Camp
DESCRIPTION:Girls in grades K-7th are invited to the Dominican Cheer Mini-Camp. They will be divided into groups by grade level. Each group will be monitored by adult chaperones & instructed by members of the Dominican Cheerleaders. \n\n\n\nSaturday\, October 12\n9:30 am – 3:00 pm\nOnline Registration: $50\nWalk-Up Registration: $60\n\n\n\n\n*Walk-ups may receive their t-shirts at a later date. \n  \n  \n 
URL:https://www.stmarysdominican.org/event/dominican-cheer-mini-camp-4/
CATEGORIES:Recruitment,Upcoming Events
ATTACH;FMTTYPE=image/jpeg:https://www.stmarysdominican.org/wp-content/uploads/2021/08/cheer_mini-camp-01.jpg
END:VEVENT
BEGIN:VEVENT
DTSTART;TZID=America/Chicago:20231028T093000
DTEND;TZID=America/Chicago:20231028T150000
DTSTAMP:20260425T083924
CREATED:20230810T150533Z
LAST-MODIFIED:20231027T170045Z
UID:10002272-1698485400-1698505200@www.stmarysdominican.org
SUMMARY:Dominican Cheer Mini-Camp
DESCRIPTION:Girls in grades K-7th are invited to the Dominican Cheer Mini-Camp. They will be divided into groups by grade level. Each group will be monitored by adult chaperones & instructed by members of the Dominican Cheerleaders. \n\n\n\nSaturday\, October 28\n9:30 am – 3:00 pm\nWalk-Up Registration: $60\n\n\n\n\n*Walk-ups may receive their t-shirts at a later date. \n  \n  \n 
URL:https://www.stmarysdominican.org/event/dominican-cheer-mini-camp-3/
CATEGORIES:Recruitment,Upcoming Events
ATTACH;FMTTYPE=image/jpeg:https://www.stmarysdominican.org/wp-content/uploads/2021/08/cheer_mini-camp-01.jpg
END:VEVENT
BEGIN:VEVENT
DTSTART;TZID=America/Chicago:20231007T090000
DTEND;TZID=America/Chicago:20231007T120000
DTSTAMP:20260425T083924
CREATED:20230810T170458Z
LAST-MODIFIED:20231006T200652Z
UID:10002275-1696669200-1696680000@www.stmarysdominican.org
SUMMARY:STREAM™ Saturday
DESCRIPTION:October 7\, 2023\n9:00 am – 12 noon\nDominican invites 4th – 8th* grade girls to our newest event – STREAM™ Saturday – combining all STREAM™ initiatives – Science\, Technology\, Religion\, Engineering\, Arts\, and Math! \n*8th graders at non-Catholic elementary schools \n$20 – Food and t-shirt included \nOnline Registration is Closed. Walk-ups are welcome!
URL:https://www.stmarysdominican.org/event/stream-saturday/
CATEGORIES:Recruitment,Upcoming Events
ATTACH;FMTTYPE=image/jpeg:https://www.stmarysdominican.org/wp-content/uploads/2023/08/STREAM_Saturday_web.jpg
ORGANIZER;CN="Recruitment":MAILTO:recruitment@stmarysdominican.org
END:VEVENT
BEGIN:VEVENT
DTSTART;TZID=America/Chicago:20230929T180000
DTEND;TZID=America/Chicago:20230929T210000
DTSTAMP:20260425T083924
CREATED:20230803T220152Z
LAST-MODIFIED:20230815T220116Z
UID:10002269-1696010400-1696021200@www.stmarysdominican.org
SUMMARY:Seventh Grade Social
DESCRIPTION:St. Mary’s Dominican High School’s Seventh Grade Social is Friday\, September 29 from 6:00 p.m. – 9:00 p.m. This very special night will feature faith\, food\, fun\, and all things DHS! Get ready for some true Dominican FUN! \nClick Here to Register \nProspective students in grades 7 – 8* are invited to attend. \n*8th graders at non-Catholic elementary schools \nDinner and snacks will be provided. \n 
URL:https://www.stmarysdominican.org/event/seventh-grade-social-5/
CATEGORIES:Recruitment,Upcoming Events
ATTACH;FMTTYPE=image/jpeg:https://www.stmarysdominican.org/wp-content/uploads/2023/08/seventh_grade_social_web3.jpg
ORGANIZER;CN="Recruitment":MAILTO:recruitment@stmarysdominican.org
END:VEVENT
BEGIN:VEVENT
DTSTART;TZID=America/Chicago:20230920T180000
DTEND;TZID=America/Chicago:20230920T200000
DTSTAMP:20260425T083924
CREATED:20230810T152523Z
LAST-MODIFIED:20230815T222818Z
UID:10002274-1695232800-1695240000@www.stmarysdominican.org
SUMMARY:Admissions Information Session
DESCRIPTION:The Admissions Information Session is designed for parents of students who are planning to apply to high school in the Fall of 2023. The session will provide parents with an opportunity to learn more about Dominican’s college preparatory academic program\, meet with faculty and administrators\, and learn more about the high school admissions process. Space is limited and registration is required. \nSeptember 20 from 6 pm – 8 pm\nClick Here to Register \n 
URL:https://www.stmarysdominican.org/event/admissions-information-session-3/
CATEGORIES:Experience Dominican,Recruitment,Upcoming Events
ATTACH;FMTTYPE=image/jpeg:https://www.stmarysdominican.org/wp-content/uploads/2022/08/admissions_information_session2-01.jpg
END:VEVENT
BEGIN:VEVENT
DTSTART;TZID=America/Chicago:20230909T093000
DTEND;TZID=America/Chicago:20230909T150000
DTSTAMP:20260425T083924
CREATED:20230810T151118Z
LAST-MODIFIED:20230905T143948Z
UID:10002258-1694251800-1694271600@www.stmarysdominican.org
SUMMARY:Dominican Deb Mini-Camp
DESCRIPTION:Girls in grades K-7th are invited to the Dominican Deb Mini-Camp. Girls will be divided into groups by grade level. Each group will be monitored by adult chaperones & instructed by members of the Dominican Debs. \nSaturday\, September 9\n9:30 am – 3:00 pm\nOnline Registration is closed\nWalk-Up Registration: $60\nDownload the Walk-Up Registration Form Here
URL:https://www.stmarysdominican.org/event/dominican-deb-mini-camp-3/
CATEGORIES:Recruitment,Upcoming Events
ATTACH;FMTTYPE=image/jpeg:https://www.stmarysdominican.org/wp-content/uploads/2021/08/deb_mini-camp_leap-01.jpg
END:VEVENT
BEGIN:VEVENT
DTSTART;TZID=America/Chicago:20230421T180000
DTEND;TZID=America/Chicago:20230421T210000
DTSTAMP:20260425T083924
CREATED:20230113T222407Z
LAST-MODIFIED:20230420T153518Z
UID:10002194-1682100000-1682110800@www.stmarysdominican.org
SUMMARY:Black and White Friday Night
DESCRIPTION:Join us for our annual Black and White Friday Night! This fun event is open to girls in grades 4 and 5. Enjoy crafts\, games\, and Dominican fun! \nDinner will be provided. \nFriday\, April 21 from 6 pm – 9 pm\nOnline registration is closed. Walk-ins are welcome!\n  \n 
URL:https://www.stmarysdominican.org/event/black-and-white-friday-night-6/
CATEGORIES:Experience Dominican,Recruitment,Upcoming Events
ATTACH;FMTTYPE=image/jpeg:https://www.stmarysdominican.org/wp-content/uploads/2021/08/blackandwhite_web_image2.jpg
ORGANIZER;CN="Recruitment":MAILTO:recruitment@stmarysdominican.org
END:VEVENT
BEGIN:VEVENT
DTSTART;TZID=America/Chicago:20230401T190000
DTEND;TZID=America/Chicago:20230401T210000
DTSTAMP:20260425T083924
CREATED:20230315T155839Z
LAST-MODIFIED:20230315T161014Z
UID:10002199-1680375600-1680382800@www.stmarysdominican.org
SUMMARY:Spring Musical: The Wizard of Oz
DESCRIPTION:St. Mary’s Dominican High School presents The Wizard of Oz \nMarch 24 • 7 pm \nMarch 25 •  7 pm \nMarch 31 •  7 pm \nApril 1 •  1 pm and 7 pm \nPurchase tickets here! \n 
URL:https://www.stmarysdominican.org/event/spring-musical-the-wizard-of-oz/2023-04-01/2/
CATEGORIES:Musical,Recruitment,Upcoming Events
ATTACH;FMTTYPE=image/jpeg:https://www.stmarysdominican.org/wp-content/uploads/2023/01/wizard_of_oz_web.jpg
END:VEVENT
BEGIN:VEVENT
DTSTART;TZID=America/Chicago:20230316T180000
DTEND;TZID=America/Chicago:20230316T200000
DTSTAMP:20260425T083924
CREATED:20230113T222940Z
LAST-MODIFIED:20230217T194313Z
UID:10002206-1678989600-1678996800@www.stmarysdominican.org
SUMMARY:Admissions Information Session
DESCRIPTION:The Admissions Information Session is designed for parents of students who are planning to apply to high school in the Fall of 2023. The session will provide parents with an opportunity to learn more about Dominican’s college preparatory academic program\, meet with faculty and administrators\, and learn more about the high school admissions process. Space is limited and registration is required. \nMarch 16 from 6 pm – 8 pm\nREGISTER NOW \n\n                \n                        Student Name(Required)\n                            \n                            \n                                                    \n                                                    First\n                                                \n                            \n                            \n                                                    \n                                                    Last\n                                                \n                            \n                        Student Preferred Name Current School(Required) Current Grade(Required)Select Grade67Student Birthdate(Required)\n                                            \n                                            Month\n                                        \n                                            \n                                            Day\n                                        \n                                            \n                                            Year\n                                       \n                                   Address(Required)    \n                    \n                         \n                                        \n                                        Street Address\n                                    \n                                        \n                                        Address Line 2\n                                    \n                                    \n                                    City\n                                 \n                                        AlabamaAlaskaAmerican SamoaArizonaArkansasCaliforniaColoradoConnecticutDelawareDistrict of ColumbiaFloridaGeorgiaGuamHawaiiIdahoIllinoisIndianaIowaKansasKentuckyLouisianaMaineMarylandMassachusettsMichiganMinnesotaMississippiMissouriMontanaNebraskaNevadaNew HampshireNew JerseyNew MexicoNew YorkNorth CarolinaNorth DakotaNorthern Mariana IslandsOhioOklahomaOregonPennsylvaniaPuerto RicoRhode IslandSouth CarolinaSouth DakotaTennesseeTexasUtahU.S. Virgin IslandsVermontVirginiaWashingtonWest VirginiaWisconsinWyomingArmed Forces AmericasArmed Forces EuropeArmed Forces Pacific\n                                        State\n                                      \n                                    \n                                    ZIP Code\n                                \n                    \n                Number of Guests(Required)Select Number of Guests123Parent Name (Guest 1)(Required)\n                            \n                            \n                                                    \n                                                    First\n                                                \n                            \n                            \n                                                    \n                                                    Last\n                                                \n                            \n                        Parent Name (Guest 2)\n                            \n                            \n                                                    \n                                                    First\n                                                \n                            \n                            \n                                                    \n                                                    Last\n                                                \n                            \n                        Parent Name (Guest 3)\n                            \n                            \n                                                    \n                                                    First\n                                                \n                            \n                            \n                                                    \n                                                    Last\n                                                \n                            \n                        Parent Email(Required)\n                            \n                        Parent Phone Number(Required)\n         Submit \n            \n            \n            \n            \n            \n            \n            \n            \n            \n        \n                        \n                        \n\n 
URL:https://www.stmarysdominican.org/event/admissions-information-session-2/
CATEGORIES:Experience Dominican,Recruitment,Upcoming Events
ATTACH;FMTTYPE=image/jpeg:https://www.stmarysdominican.org/wp-content/uploads/2022/08/admissions_information_session2-01.jpg
END:VEVENT
BEGIN:VEVENT
DTSTART;TZID=America/Chicago:20230310T180000
DTEND;TZID=America/Chicago:20230310T210000
DTSTAMP:20260425T083924
CREATED:20230117T195217Z
LAST-MODIFIED:20230310T163216Z
UID:10002193-1678471200-1678482000@www.stmarysdominican.org
SUMMARY:Destination Dominican
DESCRIPTION:Join us for the first-ever Destination Dominican! This new\, exciting event is open to girls in 6th grade. Journey with us to your next Destination – Dominican! \nDinner will be provided. \nFriday\, March 10 from 6 pm – 9 pm\nOnline registration is closed. Walk-ins are welcome!\n 
URL:https://www.stmarysdominican.org/event/destination-dominican/
CATEGORIES:Experience Dominican,Recruitment,Upcoming Events
ATTACH;FMTTYPE=image/jpeg:https://www.stmarysdominican.org/wp-content/uploads/2023/01/destination_dominican_web-01.jpg
ORGANIZER;CN="Recruitment":MAILTO:recruitment@stmarysdominican.org
END:VEVENT
BEGIN:VEVENT
DTSTART;TZID=America/Chicago:20230304T090000
DTEND;TZID=America/Chicago:20230304T150000
DTSTAMP:20260425T083924
CREATED:20230117T201849Z
LAST-MODIFIED:20230217T194243Z
UID:10002201-1677920400-1677942000@www.stmarysdominican.org
SUMMARY:Debs Technique Clinic
DESCRIPTION:SATURDAY\, MARCH 4\, 2023\nGirls in grades 5 – 7\, incoming Dominican students for the 2023 – 2024 school year\, and any present Dominican student who may be interested in trying out for the Debs\, are invited to attend the Debs Technique Clinic\, Saturday\, March 4. \n  \nREGISTER HERE FOR DEBS TECHNIQUE CLINIC \n  \n \n  \n  \n 
URL:https://www.stmarysdominican.org/event/debs-technique-clinic-4/
CATEGORIES:Experience Dominican,Recruitment,Upcoming Events
ATTACH;FMTTYPE=image/jpeg:https://www.stmarysdominican.org/wp-content/uploads/2018/01/technique_clinic_image_web.jpg
END:VEVENT
BEGIN:VEVENT
DTSTART;VALUE=DATE:20220131
DTEND;VALUE=DATE:20220201
DTSTAMP:20260425T083924
CREATED:20210816T131922Z
LAST-MODIFIED:20210816T131922Z
UID:10002037-1643587200-1643673599@www.stmarysdominican.org
SUMMARY:Interviews (Make Up/If necessary)
DESCRIPTION:
URL:https://www.stmarysdominican.org/event/interviews-make-up-if-necessary/
CATEGORIES:Recruitment
END:VEVENT
BEGIN:VEVENT
DTSTART;VALUE=DATE:20220126
DTEND;VALUE=DATE:20220127
DTSTAMP:20260425T083924
CREATED:20210816T131922Z
LAST-MODIFIED:20210816T131922Z
UID:10002036-1643155200-1643241599@www.stmarysdominican.org
SUMMARY:Interviews
DESCRIPTION:
URL:https://www.stmarysdominican.org/event/interviews-4/
CATEGORIES:Recruitment
END:VEVENT
BEGIN:VEVENT
DTSTART;VALUE=DATE:20220125
DTEND;VALUE=DATE:20220126
DTSTAMP:20260425T083924
CREATED:20210816T131921Z
LAST-MODIFIED:20210816T131921Z
UID:10002035-1643068800-1643155199@www.stmarysdominican.org
SUMMARY:Interviews
DESCRIPTION:
URL:https://www.stmarysdominican.org/event/interviews-3/
CATEGORIES:Recruitment
END:VEVENT
BEGIN:VEVENT
DTSTART;VALUE=DATE:20220120
DTEND;VALUE=DATE:20220121
DTSTAMP:20260425T083924
CREATED:20210816T131920Z
LAST-MODIFIED:20210816T131920Z
UID:10002034-1642636800-1642723199@www.stmarysdominican.org
SUMMARY:Interviews
DESCRIPTION:
URL:https://www.stmarysdominican.org/event/interviews-2/
CATEGORIES:Recruitment
END:VEVENT
BEGIN:VEVENT
DTSTART;VALUE=DATE:20220118
DTEND;VALUE=DATE:20220119
DTSTAMP:20260425T083924
CREATED:20210816T131908Z
LAST-MODIFIED:20210816T131908Z
UID:10002033-1642464000-1642550399@www.stmarysdominican.org
SUMMARY:Interviews
DESCRIPTION:
URL:https://www.stmarysdominican.org/event/interviews/
CATEGORIES:Recruitment
END:VEVENT
BEGIN:VEVENT
DTSTART;VALUE=DATE:20220108
DTEND;VALUE=DATE:20220109
DTSTAMP:20260425T083924
CREATED:20210816T131615Z
LAST-MODIFIED:20210816T131615Z
UID:10001621-1641600000-1641686399@www.stmarysdominican.org
SUMMARY:Application Day
DESCRIPTION:
URL:https://www.stmarysdominican.org/event/application-day-3/
CATEGORIES:Recruitment
END:VEVENT
BEGIN:VEVENT
DTSTART;VALUE=DATE:20211116
DTEND;VALUE=DATE:20211117
DTSTAMP:20260425T083924
CREATED:20210816T131616Z
LAST-MODIFIED:20210816T131616Z
UID:10001623-1637020800-1637107199@www.stmarysdominican.org
SUMMARY:Application Due
DESCRIPTION:
URL:https://www.stmarysdominican.org/event/application-due/
CATEGORIES:Recruitment
END:VEVENT
BEGIN:VEVENT
DTSTART;VALUE=DATE:20211110
DTEND;VALUE=DATE:20211111
DTSTAMP:20260425T083924
CREATED:20210816T131629Z
LAST-MODIFIED:20210816T131629Z
UID:10001624-1636502400-1636588799@www.stmarysdominican.org
SUMMARY:Application Opens
DESCRIPTION:
URL:https://www.stmarysdominican.org/event/application-opens/
CATEGORIES:Recruitment
END:VEVENT
BEGIN:VEVENT
DTSTART;TZID=America/Chicago:20200724T080000
DTEND;TZID=America/Chicago:20200724T150000
DTSTAMP:20260425T083924
CREATED:20200604T211948Z
LAST-MODIFIED:20200604T211948Z
UID:10001954-1595577600-1595602800@www.stmarysdominican.org
SUMMARY:Walkin' on Walmsley
DESCRIPTION:  \nJULY 20 – JULY 24\n\nThis program is for registered incoming eighth and ninth grade Dominican students for the 2020-2021 school year.\n \n \n 
URL:https://www.stmarysdominican.org/event/walkin-on-walmsley-2/2020-07-24/
CATEGORIES:Summer Programs
ATTACH;FMTTYPE=image/jpeg:https://www.stmarysdominican.org/wp-content/uploads/2019/04/saddle_oxfords_black_background-01.jpg
END:VEVENT
BEGIN:VEVENT
DTSTART;VALUE=DATE:20200220
DTEND;VALUE=DATE:20200221
DTSTAMP:20260425T083924
CREATED:20190730T160755Z
LAST-MODIFIED:20190730T160755Z
UID:10001513-1582156800-1582243199@www.stmarysdominican.org
SUMMARY:Letters of Acceptance Mailed
DESCRIPTION:
URL:https://www.stmarysdominican.org/event/letters-of-acceptance-mailed/
CATEGORIES:Recruitment
END:VEVENT
BEGIN:VEVENT
DTSTART;TZID=America/Chicago:20200118T080000
DTEND;TZID=America/Chicago:20200118T113000
DTSTAMP:20260425T083924
CREATED:20190730T160754Z
LAST-MODIFIED:20200109T210925Z
UID:10001509-1579334400-1579347000@www.stmarysdominican.org
SUMMARY:Application Day
DESCRIPTION:All students applying to Dominican must attend Application Day and take the High School Placement Test. The $30 application fee is collected at this time. \n  \nPLEASE NOTE:\n\nAt the direction of the Archdiocese of New Orleans\, Application Day has been rescheduled to SATURDAY\, JANUARY 18\, 2020.\nAll other information regarding the testing date\, including time and room assignments\, remains as printed in the December mailing.\nInterview dates and times remain as originally scheduled.\nPlease direct any questions or concerns to admissions@stmarysdominican.org\n\n  \n  \n  \n  \n  \n  \n 
URL:https://www.stmarysdominican.org/event/application-day/
CATEGORIES:Recruitment
END:VEVENT
END:VCALENDAR