BEGIN:VCALENDAR
VERSION:2.0
PRODID:-//St. Mary&#039;s Dominican High School - ECPv6.2.3//NONSGML v1.0//EN
CALSCALE:GREGORIAN
METHOD:PUBLISH
X-WR-CALNAME:St. Mary&#039;s Dominican High School
X-ORIGINAL-URL:https://www.stmarysdominican.org
X-WR-CALDESC:Events for St. Mary&#039;s Dominican High School
REFRESH-INTERVAL;VALUE=DURATION:PT1H
X-Robots-Tag:noindex
X-PUBLISHED-TTL:PT1H
BEGIN:VTIMEZONE
TZID:America/Chicago
BEGIN:DAYLIGHT
TZOFFSETFROM:-0600
TZOFFSETTO:-0500
TZNAME:CDT
DTSTART:20230312T080000
END:DAYLIGHT
BEGIN:STANDARD
TZOFFSETFROM:-0500
TZOFFSETTO:-0600
TZNAME:CST
DTSTART:20231105T070000
END:STANDARD
END:VTIMEZONE
BEGIN:VEVENT
DTSTART;TZID=America/Chicago:20230920T180000
DTEND;TZID=America/Chicago:20230920T200000
DTSTAMP:20260420T234419
CREATED:20230810T152523Z
LAST-MODIFIED:20230815T222818Z
UID:10002274-1695232800-1695240000@www.stmarysdominican.org
SUMMARY:Admissions Information Session
DESCRIPTION:The Admissions Information Session is designed for parents of students who are planning to apply to high school in the Fall of 2023. The session will provide parents with an opportunity to learn more about Dominican’s college preparatory academic program\, meet with faculty and administrators\, and learn more about the high school admissions process. Space is limited and registration is required. \nSeptember 20 from 6 pm – 8 pm\nClick Here to Register \n 
URL:https://www.stmarysdominican.org/event/admissions-information-session-3/
CATEGORIES:Experience Dominican,Recruitment,Upcoming Events
ATTACH;FMTTYPE=image/jpeg:https://www.stmarysdominican.org/wp-content/uploads/2022/08/admissions_information_session2-01.jpg
END:VEVENT
BEGIN:VEVENT
DTSTART;TZID=America/Chicago:20230909T093000
DTEND;TZID=America/Chicago:20230909T150000
DTSTAMP:20260420T234419
CREATED:20230810T151118Z
LAST-MODIFIED:20230905T143948Z
UID:10002258-1694251800-1694271600@www.stmarysdominican.org
SUMMARY:Dominican Deb Mini-Camp
DESCRIPTION:Girls in grades K-7th are invited to the Dominican Deb Mini-Camp. Girls will be divided into groups by grade level. Each group will be monitored by adult chaperones & instructed by members of the Dominican Debs. \nSaturday\, September 9\n9:30 am – 3:00 pm\nOnline Registration is closed\nWalk-Up Registration: $60\nDownload the Walk-Up Registration Form Here
URL:https://www.stmarysdominican.org/event/dominican-deb-mini-camp-3/
CATEGORIES:Recruitment,Upcoming Events
ATTACH;FMTTYPE=image/jpeg:https://www.stmarysdominican.org/wp-content/uploads/2021/08/deb_mini-camp_leap-01.jpg
END:VEVENT
BEGIN:VEVENT
DTSTART;TZID=America/Chicago:20230905T190000
DTEND;TZID=America/Chicago:20230905T200000
DTSTAMP:20260420T234419
CREATED:20230810T171242Z
LAST-MODIFIED:20230810T171242Z
UID:10002276-1693940400-1693944000@www.stmarysdominican.org
SUMMARY:Alumnae Rosary Via Zoom
DESCRIPTION:On the first Tuesday of every month\, the Dominican Alumnae Association will host a Zoom event for us to gather and pray the Dominican Rosary together. \nRosaries 2023: \nJanuary 3\, February 7\, March 7\, April 4\, \nMay 2\, June 6\, July 5 (Wednesday)\, \nAugust 1\, September 5\, October 3\, \nNovember 7\, December 5 \n7:00 pm – 8:00 pm \n\n                \n                        \n                            Alumnae Rosary via Zoom\n                        \n                        Name*\n                            \n                            \n                                                    \n                                                    First\n                                                \n                            \n                            \n                                                    \n                                                    Last\n                                                \n                            \n                        Maiden Name Dominican Graduation Year* Email*\n                            \n                        City\, State\, Time Zone* Decade of the Rosary\n								\n								I would like to say a decade of the rosary\n							Virtual Rosary Dates*\n								\n								February 3\n							\n								\n								March 3\n							\n								\n								April 7\n							\n								\n								May 5\n							\n								\n								June 2\n							\n								\n								July 7\n							\n								\n								August 4\n							\n								\n								September 1\n							\n								\n								October 6\n							\n								\n								November 3\n							\n								\n								December 1\n							\n         Submit
URL:https://www.stmarysdominican.org/event/alumnae-rosary-via-zoom-6/
CATEGORIES:Advancement,Upcoming Events
ATTACH;FMTTYPE=image/jpeg:https://www.stmarysdominican.org/wp-content/uploads/2022/12/rosary_tuesdays_all_web_2023.jpg
ORGANIZER;CN="Alumnae Association":MAILTO:alumnae@stmarysdominican.org
END:VEVENT
BEGIN:VEVENT
DTSTART;TZID=America/Chicago:20230513T140000
DTEND;TZID=America/Chicago:20230513T160000
DTSTAMP:20260420T234419
CREATED:20230117T194839Z
LAST-MODIFIED:20230512T213222Z
UID:10002205-1683986400-1683993600@www.stmarysdominican.org
SUMMARY:Mother Daughter Tea Honoring Class of 2023
DESCRIPTION:
URL:https://www.stmarysdominican.org/event/mother-daughter-tea-honoring-class-of-2023/
CATEGORIES:Advancement,Upcoming Events
ATTACH;FMTTYPE=image/jpeg:https://www.stmarysdominican.org/wp-content/uploads/2023/01/mother_daughter_tea_23web.jpg
ORGANIZER;CN="Alumnae Association":MAILTO:alumnae@stmarysdominican.org
END:VEVENT
BEGIN:VEVENT
DTSTART;TZID=America/Chicago:20230421T180000
DTEND;TZID=America/Chicago:20230421T210000
DTSTAMP:20260420T234419
CREATED:20230113T222407Z
LAST-MODIFIED:20230420T153518Z
UID:10002194-1682100000-1682110800@www.stmarysdominican.org
SUMMARY:Black and White Friday Night
DESCRIPTION:Join us for our annual Black and White Friday Night! This fun event is open to girls in grades 4 and 5. Enjoy crafts\, games\, and Dominican fun! \nDinner will be provided. \nFriday\, April 21 from 6 pm – 9 pm\nOnline registration is closed. Walk-ins are welcome!\n  \n 
URL:https://www.stmarysdominican.org/event/black-and-white-friday-night-6/
CATEGORIES:Experience Dominican,Recruitment,Upcoming Events
ATTACH;FMTTYPE=image/jpeg:https://www.stmarysdominican.org/wp-content/uploads/2021/08/blackandwhite_web_image2.jpg
ORGANIZER;CN="Recruitment":MAILTO:recruitment@stmarysdominican.org
END:VEVENT
BEGIN:VEVENT
DTSTART;TZID=America/Chicago:20230415T103000
DTEND;TZID=America/Chicago:20230415T140000
DTSTAMP:20260420T234419
CREATED:20230117T202324Z
LAST-MODIFIED:20230414T170857Z
UID:10002204-1681554600-1681567200@www.stmarysdominican.org
SUMMARY:Homecoming Mass\, Awards\, and Luncheon
DESCRIPTION:St. Mary’s Dominican High School Alumnae Association cordially invites you to attend Homecoming Mass and Luncheon \nSaturday\, April 15\, 2023
URL:https://www.stmarysdominican.org/event/homecoming-mass-awards-and-luncheon-2/
CATEGORIES:Advancement,Upcoming Events
ATTACH;FMTTYPE=image/jpeg:https://www.stmarysdominican.org/wp-content/uploads/2018/03/homecoming_mass_luncheon.jpg
ORGANIZER;CN="Alumnae Association":MAILTO:alumnae@stmarysdominican.org
END:VEVENT
BEGIN:VEVENT
DTSTART;TZID=America/Chicago:20230401T190000
DTEND;TZID=America/Chicago:20230401T210000
DTSTAMP:20260420T234419
CREATED:20230315T155839Z
LAST-MODIFIED:20230315T161014Z
UID:10002199-1680375600-1680382800@www.stmarysdominican.org
SUMMARY:Spring Musical: The Wizard of Oz
DESCRIPTION:St. Mary’s Dominican High School presents The Wizard of Oz \nMarch 24 • 7 pm \nMarch 25 •  7 pm \nMarch 31 •  7 pm \nApril 1 •  1 pm and 7 pm \nPurchase tickets here! \n 
URL:https://www.stmarysdominican.org/event/spring-musical-the-wizard-of-oz/2023-04-01/2/
CATEGORIES:Musical,Recruitment,Upcoming Events
ATTACH;FMTTYPE=image/jpeg:https://www.stmarysdominican.org/wp-content/uploads/2023/01/wizard_of_oz_web.jpg
END:VEVENT
BEGIN:VEVENT
DTSTART;TZID=America/Chicago:20230318T190000
DTEND;TZID=America/Chicago:20230318T230000
DTSTAMP:20260420T234419
CREATED:20230117T200421Z
LAST-MODIFIED:20230203T173719Z
UID:10002200-1679166000-1679180400@www.stmarysdominican.org
SUMMARY:Legacy Gala
DESCRIPTION:St. Mary’s Dominican High School Legacy Gala \nDominican: The Greatest School on Earth \nSaturday\, March 18\, 2023 \nPatron Party: 7:00 pm \nGala: 8:00 pm \nJoin us at The Greatest School on Earth for an evening of food\, live music\, and fun\, including a silent and live auction! \nGALA WEBSITE
URL:https://www.stmarysdominican.org/event/legacy-gala-2/
CATEGORIES:Advancement,Upcoming Events
ATTACH;FMTTYPE=image/jpeg:https://www.stmarysdominican.org/wp-content/uploads/2023/01/gala_web_image-01.jpg
END:VEVENT
BEGIN:VEVENT
DTSTART;TZID=America/Chicago:20230316T180000
DTEND;TZID=America/Chicago:20230316T200000
DTSTAMP:20260420T234419
CREATED:20230113T222940Z
LAST-MODIFIED:20230217T194313Z
UID:10002206-1678989600-1678996800@www.stmarysdominican.org
SUMMARY:Admissions Information Session
DESCRIPTION:The Admissions Information Session is designed for parents of students who are planning to apply to high school in the Fall of 2023. The session will provide parents with an opportunity to learn more about Dominican’s college preparatory academic program\, meet with faculty and administrators\, and learn more about the high school admissions process. Space is limited and registration is required. \nMarch 16 from 6 pm – 8 pm\nREGISTER NOW \n\n                \n                        Student Name(Required)\n                            \n                            \n                                                    \n                                                    First\n                                                \n                            \n                            \n                                                    \n                                                    Last\n                                                \n                            \n                        Student Preferred Name Current School(Required) Current Grade(Required)Select Grade67Student Birthdate(Required)\n                                            \n                                            Month\n                                        \n                                            \n                                            Day\n                                        \n                                            \n                                            Year\n                                       \n                                   Address(Required)    \n                    \n                         \n                                        \n                                        Street Address\n                                    \n                                        \n                                        Address Line 2\n                                    \n                                    \n                                    City\n                                 \n                                        AlabamaAlaskaAmerican SamoaArizonaArkansasCaliforniaColoradoConnecticutDelawareDistrict of ColumbiaFloridaGeorgiaGuamHawaiiIdahoIllinoisIndianaIowaKansasKentuckyLouisianaMaineMarylandMassachusettsMichiganMinnesotaMississippiMissouriMontanaNebraskaNevadaNew HampshireNew JerseyNew MexicoNew YorkNorth CarolinaNorth DakotaNorthern Mariana IslandsOhioOklahomaOregonPennsylvaniaPuerto RicoRhode IslandSouth CarolinaSouth DakotaTennesseeTexasUtahU.S. Virgin IslandsVermontVirginiaWashingtonWest VirginiaWisconsinWyomingArmed Forces AmericasArmed Forces EuropeArmed Forces Pacific\n                                        State\n                                      \n                                    \n                                    ZIP Code\n                                \n                    \n                Number of Guests(Required)Select Number of Guests123Parent Name (Guest 1)(Required)\n                            \n                            \n                                                    \n                                                    First\n                                                \n                            \n                            \n                                                    \n                                                    Last\n                                                \n                            \n                        Parent Name (Guest 2)\n                            \n                            \n                                                    \n                                                    First\n                                                \n                            \n                            \n                                                    \n                                                    Last\n                                                \n                            \n                        Parent Name (Guest 3)\n                            \n                            \n                                                    \n                                                    First\n                                                \n                            \n                            \n                                                    \n                                                    Last\n                                                \n                            \n                        Parent Email(Required)\n                            \n                        Parent Phone Number(Required)\n         Submit \n            \n            \n            \n            \n            \n            \n            \n            \n            \n        \n                        \n                        \n\n 
URL:https://www.stmarysdominican.org/event/admissions-information-session-2/
CATEGORIES:Experience Dominican,Recruitment,Upcoming Events
ATTACH;FMTTYPE=image/jpeg:https://www.stmarysdominican.org/wp-content/uploads/2022/08/admissions_information_session2-01.jpg
END:VEVENT
BEGIN:VEVENT
DTSTART;TZID=America/Chicago:20230311T100000
DTEND;TZID=America/Chicago:20230311T120000
DTSTAMP:20260420T234419
CREATED:20230117T195323Z
LAST-MODIFIED:20230309T141655Z
UID:10002203-1678528800-1678536000@www.stmarysdominican.org
SUMMARY:Easter Egg Roll
DESCRIPTION:Saturday\, March 11\, 2023\n10 am – 12 noon\nOn the Lawn – Dominican’s Campus \n$35 per family (Registration includes 3 adults – each additional adult is $5). \n  \nRegistration is Closed\n  \nCrafts\, Snacks\, Butterflies\, and More! \nBring your own basket for the Easter egg hunt! The Easter Bunny will hop on over for photos! \n \n 
URL:https://www.stmarysdominican.org/event/easter-egg-roll-5/
CATEGORIES:Advancement,Upcoming Events
ATTACH;FMTTYPE=image/jpeg:https://www.stmarysdominican.org/wp-content/uploads/2017/09/easter_egg_roll.jpg
ORGANIZER;CN="Alumnae Association":MAILTO:alumnae@stmarysdominican.org
END:VEVENT
BEGIN:VEVENT
DTSTART;TZID=America/Chicago:20230310T180000
DTEND;TZID=America/Chicago:20230310T210000
DTSTAMP:20260420T234419
CREATED:20230117T195217Z
LAST-MODIFIED:20230310T163216Z
UID:10002193-1678471200-1678482000@www.stmarysdominican.org
SUMMARY:Destination Dominican
DESCRIPTION:Join us for the first-ever Destination Dominican! This new\, exciting event is open to girls in 6th grade. Journey with us to your next Destination – Dominican! \nDinner will be provided. \nFriday\, March 10 from 6 pm – 9 pm\nOnline registration is closed. Walk-ins are welcome!\n 
URL:https://www.stmarysdominican.org/event/destination-dominican/
CATEGORIES:Experience Dominican,Recruitment,Upcoming Events
ATTACH;FMTTYPE=image/jpeg:https://www.stmarysdominican.org/wp-content/uploads/2023/01/destination_dominican_web-01.jpg
ORGANIZER;CN="Recruitment":MAILTO:recruitment@stmarysdominican.org
END:VEVENT
BEGIN:VEVENT
DTSTART;TZID=America/Chicago:20230304T090000
DTEND;TZID=America/Chicago:20230304T150000
DTSTAMP:20260420T234419
CREATED:20230117T201849Z
LAST-MODIFIED:20230217T194243Z
UID:10002201-1677920400-1677942000@www.stmarysdominican.org
SUMMARY:Debs Technique Clinic
DESCRIPTION:SATURDAY\, MARCH 4\, 2023\nGirls in grades 5 – 7\, incoming Dominican students for the 2023 – 2024 school year\, and any present Dominican student who may be interested in trying out for the Debs\, are invited to attend the Debs Technique Clinic\, Saturday\, March 4. \n  \nREGISTER HERE FOR DEBS TECHNIQUE CLINIC \n  \n \n  \n  \n 
URL:https://www.stmarysdominican.org/event/debs-technique-clinic-4/
CATEGORIES:Experience Dominican,Recruitment,Upcoming Events
ATTACH;FMTTYPE=image/jpeg:https://www.stmarysdominican.org/wp-content/uploads/2018/01/technique_clinic_image_web.jpg
END:VEVENT
BEGIN:VEVENT
DTSTART;VALUE=DATE:20230216
DTEND;VALUE=DATE:20230217
DTSTAMP:20260420T234419
CREATED:20230117T195251Z
LAST-MODIFIED:20230117T201805Z
UID:10002208-1676505600-1676591999@www.stmarysdominican.org
SUMMARY:Acceptance Letters Mailed
DESCRIPTION:
URL:https://www.stmarysdominican.org/event/acceptance-letters-mailed-2/
CATEGORIES:Upcoming Events
ATTACH;FMTTYPE=image/jpeg:https://www.stmarysdominican.org/wp-content/uploads/2023/01/acceptance_calendar_web_image.jpg
END:VEVENT
END:VCALENDAR